BEGIN:VCALENDAR
VERSION:2.0
PRODID:-//wp-events-plugin.com//6.6.4.4//EN
TZID:Europe/Berlin
X-WR-TIMEZONE:Europe/Berlin
BEGIN:VEVENT
UID:25@erlenweiherhof.de
DTSTART;TZID=Europe/Berlin:20260330T100000
DTEND;TZID=Europe/Berlin:20260330T160000
DTSTAMP:20260221T140028Z
URL:https://www.erlenweiherhof.de/veranstaltungen/ein-tag-rund-um-pferde-u
 nd-ponys-1-3/
SUMMARY:Ein Tag rund um Pferde und Ponys 1
DESCRIPTION:Du verbringt einen Tag bei und mit unseren Pferden und Ponys. D
 ort kannst du viel erfahren über die Haltung\, die Bedürfnisse und den U
 mgang mit diesen tollen Tieren. Dazu gehören Stallarbeit und Füttern\, d
 as Putzen\, Pflegen und Führen und natürlich auch das Reiten. Wir freuen
  uns auf einen tollen\, abwechslungsreichen Tag mit dir.\n\n72 EUR\n\ninkl
 . Obst\, Snacks und Getränke (Ohne Mittagessen! Bitte Brotzeit mitbringen
 )
CATEGORIES:Osterferien
LOCATION:Erlenweiherhof\, Hattenhofener Str. 11\, Prittriching / Winkl\, Ba
 yern\, 86931\, Deutschland
X-APPLE-STRUCTURED-LOCATION;VALUE=URI;X-ADDRESS=Hattenhofener Str. 11\, Pri
 ttriching / Winkl\, Bayern\, 86931\, Deutschland;X-APPLE-RADIUS=100;X-TITL
 E=Erlenweiherhof:geo:0,0
END:VEVENT
BEGIN:VTIMEZONE
TZID:Europe/Berlin
X-LIC-LOCATION:Europe/Berlin
BEGIN:DAYLIGHT
DTSTART:20260329T030000
TZOFFSETFROM:+0100
TZOFFSETTO:+0200
TZNAME:CEST
END:DAYLIGHT
END:VTIMEZONE
END:VCALENDAR