BEGIN:VCALENDAR
VERSION:2.0
PRODID:-//wp-events-plugin.com//6.6.4.4//EN
TZID:Europe/Berlin
X-WR-TIMEZONE:Europe/Berlin
BEGIN:VEVENT
UID:29@erlenweiherhof.de
DTSTART;TZID=Europe/Berlin:20260331T140000
DTEND;TZID=Europe/Berlin:20260331T170000
DTSTAMP:20260214T145844Z
URL:https://www.erlenweiherhof.de/veranstaltungen/schnitzeljagd-mit-ostere
 iersuche-1-2/
SUMMARY:Schnitzeljagd mit Ostereiersuche 1
DESCRIPTION:Wo hat der Osterhase seinen Schatz versteckt? Wir suchen Hinwei
 se\, erledigen die Aufgaben des Osterhasen und reiten mit unserem Pferden 
 und Ponys raus in die Natur. Ob wir den Schatz wohl finden? Bei sehr schle
 chtem Wetter findet die Schnitzeljagd auf unserem Hofgelände statt.\n\n47
  EUR
CATEGORIES:Osterferien
LOCATION:Erlenweiherhof\, Hattenhofener Str. 11\, Prittriching / Winkl\, Ba
 yern\, 86931\, Deutschland
X-APPLE-STRUCTURED-LOCATION;VALUE=URI;X-ADDRESS=Hattenhofener Str. 11\, Pri
 ttriching / Winkl\, Bayern\, 86931\, Deutschland;X-APPLE-RADIUS=100;X-TITL
 E=Erlenweiherhof:geo:0,0
END:VEVENT
BEGIN:VTIMEZONE
TZID:Europe/Berlin
X-LIC-LOCATION:Europe/Berlin
BEGIN:DAYLIGHT
DTSTART:20260329T030000
TZOFFSETFROM:+0100
TZOFFSETTO:+0200
TZNAME:CEST
END:DAYLIGHT
END:VTIMEZONE
END:VCALENDAR